BEGIN:VCALENDAR
VERSION:2.0
PRODID:-//Ultimate Dubai Guide for Travelers and Locals | Uncover Dubai - ECPv6.15.20//NONSGML v1.0//EN
CALSCALE:GREGORIAN
METHOD:PUBLISH
X-ORIGINAL-URL:https://uncoverdubai.com
X-WR-CALDESC:Events for Ultimate Dubai Guide for Travelers and Locals | Uncover Dubai
REFRESH-INTERVAL;VALUE=DURATION:PT1H
X-Robots-Tag:noindex
X-PUBLISHED-TTL:PT1H
BEGIN:VTIMEZONE
TZID:UTC
BEGIN:STANDARD
TZOFFSETFROM:+0000
TZOFFSETTO:+0000
TZNAME:UTC
DTSTART:20240101T000000
END:STANDARD
END:VTIMEZONE
BEGIN:VEVENT
DTSTART;TZID=UTC:20260208T063000
DTEND;TZID=UTC:20260208T170000
DTSTAMP:20260423T162554
CREATED:20251121T023237Z
LAST-MODIFIED:20251121T023237Z
UID:12374-1770532200-1770570000@uncoverdubai.com
SUMMARY:Burj2Burj Half Marathon 2026: Run Between Dubai’s Iconic Landmarks
DESCRIPTION:Lace up for one of Dubai’s most scenic running events — the Burj2Burj Half Marathon 2026\, happening on February 8\, 2026\, at 6:30 AM. This exciting race takes participants on a breathtaking route connecting two of the city’s most famous landmarks — the Burj Al Arab and the Burj Khalifa — offering runners a unique way to experience Dubai’s modern skyline\, coastal breeze\, and vibrant energy. \nOrganized by Promoseven Sports Marketing\, the Burj2Burj Half Marathon is more than just a race — it’s a celebration of fitness\, community\, and urban beauty. Whether you’re a seasoned athlete chasing a personal best or a first-time participant seeking an unforgettable experience\, the event welcomes runners of all levels. Along the route\, expect live music\, cheering crowds\, and water stations highlighting Dubai’s passion for world-class sporting events. \nParticipants can choose from multiple categories\, including the 21.1 km Half Marathon\, 10 km\, and 5 km runs. Finishing under the towering Burj Khalifa creates a truly memorable Dubai moment — perfect for photos\, celebration\, and sharing the city’s active lifestyle spirit. \nRace Essentials\n\n\nDate: Sunday\, February 8\, 2026 \n\n\nStart Time: 6:30 AM \n\n\nStart/Finish Line: Burj Al Arab → Burj Khalifa \n\n\nRegistration: burj2burj.com \n\n\nWhether you’re visiting Dubai for the event or a local looking to take part\, the Burj2Burj Half Marathon perfectly blends sport\, sightseeing\, and community — proving once again why Dubai is the ultimate destination for fitness and adventure.
URL:https://uncoverdubai.com/event/burj2burj-half-marathon-2026-run-between-dubais-iconic-landmarks/
LOCATION:Burj Al Arab\, Dubai\, United Arab Emirates
CATEGORIES:Arts and Culture,Entertainment,Motivation,Sports
ATTACH;FMTTYPE=image/jpeg:https://uncoverdubai.com/wp-content/uploads/2025/11/running-scaled.jpeg
END:VEVENT
BEGIN:VEVENT
DTSTART;TZID=UTC:20260201T063000
DTEND;TZID=UTC:20260201T170000
DTSTAMP:20260423T162554
CREATED:20251121T024455Z
LAST-MODIFIED:20251121T024455Z
UID:12378-1769927400-1769965200@uncoverdubai.com
SUMMARY:Dubai Marathon 2026: Celebrate 25 Years of Running Excellence
DESCRIPTION:The Dubai Marathon 2026 is set to make history as it celebrates its 25th anniversary on February 1\, 2026. Recognized as one of the world’s fastest and most prestigious road races\, the event will once again bring together elite athletes\, local runners\, and fitness enthusiasts for an unforgettable race through the heart of Dubai. \nStarting along Umm Suqeim Road near the iconic Burj Al Arab\, the route offers breathtaking views of the city’s modern skyline and coastline. Participants can choose between the 42.195 km full marathon\, 10 km road race\, or 4 km fun run\, making it a truly inclusive event for all skill levels. \nOrganized by ES Sports\, the Dubai Marathon combines world-class organization with Dubai’s signature hospitality. Runners can expect perfectly managed hydration points\, lively entertainment zones\, and plenty of community spirit along the course. Whether you’re aiming for a personal best or simply running for the joy of it\, this event captures the essence of Dubai’s active and inspiring lifestyle. \nEvent Highlights\n\n\nDate: February 1\, 2026 \n\n\nLocation: Umm Suqeim Road\, near Burj Al Arab \n\n\nCategories: Full Marathon (42 km)\, 10 km\, and 4 km Fun Run \n\n\nRegistration: www.dubaimarathon.org \n\n\nAs one of Dubai’s longest-running sporting traditions\, the Dubai Marathon 2026 is more than a race — it’s a celebration of endurance\, unity\, and the city’s passion for fitness. \nBurj2Burj Half Marathon 2026: Run Between Dubai’s Iconic Landmarks
URL:https://uncoverdubai.com/event/dubai-marathon-2026/
LOCATION:Burj Al Arab\, Dubai\, United Arab Emirates
CATEGORIES:Entertainment,Motivation,Sports
ATTACH;FMTTYPE=image/png:https://uncoverdubai.com/wp-content/uploads/2025/11/dubai-marathon-map.png
END:VEVENT
BEGIN:VEVENT
DTSTART;VALUE=DATE:20260115
DTEND;VALUE=DATE:20260119
DTSTAMP:20260423T162554
CREATED:20260112T182356Z
LAST-MODIFIED:20260112T185908Z
UID:12604-1768435200-1768780799@uncoverdubai.com
SUMMARY:Dubai Invitational 2026 (DP World Tour Golf) - January 15th - January 18th
DESCRIPTION:The Dubai Invitational 2026 brings world-class golf back to the city as leading players from the DP World Tour tee off on one of Dubai’s most scenic championship courses. January 15th – January 18th. Set along the historic Dubai Creek\, this four-day tournament blends elite competition with stunning waterfront views\, premium hospitality\, and a relaxed festival atmosphere that makes it a favorite for both serious golf fans and casual spectators. \nWhether you’re following the leaderboard\, enjoying clubhouse dining\, or soaking up the sunshine by the fairways\, the Dubai Invitational is one of January’s must-see sporting events in Dubai—perfect to pair with winter weather\, luxury stays\, and the city’s buzzing social calendar.
URL:https://uncoverdubai.com/event/dubai-invitational-2026/
LOCATION:Dubai Creek Resort Golf Club\, Dubai Creek Resort - Port Saeed\, Dubai\, United Arab Emirates
CATEGORIES:Arts and Culture,Entertainment,Sports
ATTACH;FMTTYPE=image/jpeg:https://uncoverdubai.com/wp-content/uploads/2026/01/2026-dubai-invitational-golf.jpeg
END:VEVENT
BEGIN:VEVENT
DTSTART;VALUE=DATE:20260111
DTEND;VALUE=DATE:20260113
DTSTAMP:20260423T162554
CREATED:20260112T183105Z
LAST-MODIFIED:20260112T190046Z
UID:12608-1768089600-1768262399@uncoverdubai.com
SUMMARY:Dubai Creek Striders Half Marathon & 10 km Run - January 11th
DESCRIPTION:The Dubai Creek Striders Half Marathon & 10 km Run is one of Dubai’s most popular community running events\, drawing local athletes\, visiting runners\, and fitness enthusiasts for a scenic race through the historic Dubai Creek area. January 11-12. Set against waterfront views and classic city landmarks\, this annual event offers both a competitive 21.1 km half marathon and a more accessible 10 km race\, making it perfect for runners of all levels. \nKnown for its friendly atmosphere and professionally organized course\, the Dubai Creek Striders Run is a fantastic way to experience Dubai’s outdoor lifestyle during the cooler winter season. Whether you’re chasing a personal best or running for fun\, it’s a must-do event for active travelers in January.
URL:https://uncoverdubai.com/event/dubai-creek-striders-half-marathon-10-km-run/
CATEGORIES:Arts and Culture,Entertainment,Motivation,Sports
ATTACH;FMTTYPE=image/jpeg:https://uncoverdubai.com/wp-content/uploads/2026/01/dubai-creek-marathon-2026.jpeg
END:VEVENT
BEGIN:VEVENT
DTSTART;TZID=UTC:20260108T200000
DTEND;TZID=UTC:20260108T230000
DTSTAMP:20260423T162554
CREATED:20260104T232449Z
LAST-MODIFIED:20260104T232703Z
UID:12526-1767902400-1767913200@uncoverdubai.com
SUMMARY:Dubai Basketball v. Fenerbahce Beko Istanbul
DESCRIPTION:Basketball fans can catch top-tier European action as Dubai Basketball faces Fenerbahçe Beko Istanbul in an exciting international club showdown at Coca-Cola Arena. The matchup brings high-intensity play\, elite talent\, and a vibrant game-day atmosphere to one of Dubai’s premier indoor venues\, making it a must-see event for sports lovers visiting the city. \nWhether you’re a dedicated basketball fan or looking for a memorable night out in Dubai\, this game offers fast-paced action\, big-crowd energy\, and a taste of Europe’s top basketball culture in the heart of the city.
URL:https://uncoverdubai.com/event/dubai-basketball-v-fenerbahce-beko-istanbul/
LOCATION:Coca-Cola Arena\, Dubai\, United Arab Emirates
CATEGORIES:Entertainment,Sports
ATTACH;FMTTYPE=image/jpeg:https://uncoverdubai.com/wp-content/uploads/2026/01/Dubai-Basketball-v.-Fenerbahce-Beko-Istanbul.jpg
END:VEVENT
BEGIN:VEVENT
DTSTART;VALUE=DATE:20251202
DTEND;VALUE=DATE:20251214
DTSTAMP:20260423T162554
CREATED:20251209T015204Z
LAST-MODIFIED:20251209T015204Z
UID:12427-1764633600-1765670399@uncoverdubai.com
SUMMARY:2025 IBA Men's World Boxing Championships Dubai | $8.3M Prize Pool
DESCRIPTION:2025 IBA Men’s World Boxing Championships: The Richest Amateur Boxing Event in History\nDubai transforms into the global capital of boxing from December 2-13\, 2025\, as the city hosts the historic 2025 IBA Men’s World Boxing Championships at the Dubai Duty Free Tennis Stadium. This 23rd edition of the prestigious championship features an unprecedented $8.32 million prize pool—the largest ever offered in amateur boxing history—and showcases the world’s finest boxing talent competing in a spectacular two-week Festival of Boxing. \nOrganized by the International Boxing Association (IBA) and coinciding with UAE National Day celebrations\, this groundbreaking event brings together over 400 elite fighters from more than 118 nations\, competing across 13 weight divisions for championship glory and life-changing prize money. With $300\,000 awarded to each category winner\, this championship redefines what’s possible in amateur boxing while honoring the sport’s heritage and values. \nEvent Dates & Format\nDuration: December 2-13\, 2025 (12 days)\nCompetition Start: December 4\, 2025\nFinals: December 13\, 2025\nOpening Ceremony: December 2\, 2025\nSpecial Event: IBA.Pro 13 Fight Night – December 12\, 2025 \nVenue Details\nLocation: Dubai Duty Free Tennis Stadium\nAddress: 31a Street\, Garhoud\, Dubai\, United Arab Emirates\nCapacity: 5\,000 spectators\nNeighborhood: Garhoud (near Dubai International Airport)\nSetting: State-of-the-art indoor stadium with world-class facilities \nHistoric Prize Money\nThe 2025 IBA Men’s World Boxing Championships features a revolutionary $8.32 million prize pool\, making it officially the richest amateur boxing event ever staged. The prize distribution reflects IBA President Umar Kremlev’s commitment to rewarding excellence and supporting grassroots boxing development. \nPrize Breakdown per Weight Division: \n\nGold Medal (Champion): $300\,000\nSilver Medal (Runner-up): $150\,000\nBronze Medal (Semi-finalists): $75\,000 each\nFifth Place: $10\,000\n\nPrize Distribution Model: Each prize is shared among three key contributors: \n\n50% to the athlete\n25% to the coach\n25% to the National Federation\n\nThis structure recognizes that success in boxing is a collective effort\, celebrating the combined contributions of boxers\, their coaches\, and their federations. \nWorld-Class Athletes\nThe championship features some of the most decorated amateur boxers in the world\, including multiple Olympic champions and international medalists: \nOlympic Champions: \n\nHasanboy Dusmatov (Uzbekistan) — Two-time Olympic champion known for speed and technical precision\nJulio La Cruz (Cuba) — Two-time Olympic gold medalist\, famed for defensive mastery\nAbdumalik Khalokov (Uzbekistan) — Olympic champion and technical virtuoso\n\nParis 2024 Medalists: \n\nLoren Alfonso Dominguez (Azerbaijan) — Olympic finalist\nNurbek Oralbay (Kazakhstan) — Paris 2024 finalist and Asian champion\nSaidjamshid Jafarov (Tajikistan) — Recent Olympic medalist\n\nRegional Champions: \n\nAibek Oralbay (Kazakhstan) — Two-time Asian Champion\nPlus hundreds of national champions and elite contenders from 118+ nations\n\nCompetition Structure\n13 Weight Divisions: Athletes compete across all Olympic weight categories plus additional divisions\, ensuring comprehensive representation of boxing talent worldwide. \nTournament Format: \n\nPreliminary Rounds: December 4-8\nQuarter-Finals: December 9-10\nSemi-Finals: December 11\nFinals: December 13\n\nMedal Distribution: \n\n1 Gold Medal per division\n1 Silver Medal per division\n2 Bronze Medals per division (both semi-final losers receive bronze)\n\nOpening Ceremony Spectacular\nThe championship opened on December 2\, 2025\, with an unforgettable ceremony that seamlessly blended global entertainment\, elite sport\, and cultural celebration—coinciding with UAE National Day. \nHeadline Entertainment: \n\nRick Ross — Global rap superstar delivering powerhouse performance\nRoy Jones Jr. — Boxing legend performing “Can’t Be Touched” and “Y’all Must’ve Forgot”\nEgor Kreed — Russia’s most-streamed artist with explosive set\nBenedetta Caretta — Italian vocal star with stirring melodies\nKris Fade — Dubai’s beloved radio icon\n\nSpecial Guests: \n\nRasheda Ali — Daughter of Muhammad Ali\, accompanied by her boxer son Nico Ali Walsh\, sharing heartfelt reflections on her father’s legacy\n\nThe ceremony featured fireworks\, world-class production\, and athletes from 118+ nations taking the stage in a celebration that symbolized Dubai’s rise as a global sporting capital. \nFestival of Boxing\n \nThe IBA Men’s World Boxing Championships anchors a comprehensive two-week Festival of Boxing that includes: \nIBA.Pro 13 – December 12\, 2025: A blockbuster professional fight night featuring: \n\nMurat Gassiev vs Kubrat Pulev — WBA World Heavyweight Title\nBakhodur Usmonov vs Maxi Hughes — WBA Lightweight Eliminator\nYoel Finol vs Shakhobidin Zoirov II — IBA Pro Bantamweight World Title rematch\nKhariton Agrba vs Nerii Muñoz II — WBA Super-Lightweight Eliminator\n\nIBA Global Boxing Forum: Industry leaders\, officials\, and stakeholders gathering to discuss boxing’s future \nIBA Congress: Governance meetings shaping international boxing policy and development \nWhy This Championship Matters\n🥊 Historic Prize Money — $8.32M makes this the richest amateur boxing event ever\n🥊 Olympic Talent — Multiple Olympic champions competing for glory\n🥊 Global Representation — 118+ nations\, all competing under their own flags\n🥊 Life-Changing Rewards — $300\,000 per champion can transform athletes’ careers\n🥊 Entertainment Value — World-class production\, celebrity performances\n🥊 Cultural Celebration — Coinciding with UAE National Day festivities\n🥊 Boxing Legacy — 75+ years of IBA heritage honoring the sport’s greatest traditions\n🥊 Unity and Fairness — IBA’s vision of sport that unites without borders or politics \nPerfect For\n🥊 Boxing Enthusiasts — Witness the world’s best amateur boxers in action\n🥊 Sports Fans — Experience elite athletic competition at its finest\n🥊 Olympic Followers — See Olympic champions competing for world titles\n🥊 Cultural Explorers — Participate in Dubai’s Festival of Boxing celebration\n🥊 Families — Exciting sporting entertainment suitable for all ages\n🥊 International Visitors — Perfect timing with F1 Abu Dhabi Grand Prix weekend\n🥊 National Pride — Support your country’s representatives on the global stage \nHow to Watch\nIn-Person: Tickets available for: \n\nOpening Ceremony (December 2)\nDaily Competition (December 4-13)\nIBA.Pro 13 Fight Night (December 12)\nChampionship Finals (December 13)\n\nLive Streaming: All bouts streamed FREE on the official IBA Boxing YouTube channel\, making the action accessible to global audiences. No subscription required—watch every punch\, combination\, and knockout live. \nDubai Tennis Stadium: The Perfect Venue\nThe Dubai Duty Free Tennis Stadium provides an exceptional setting for this historic championship: \nFacilities: \n\n5\,000-seat capacity with excellent sightlines\nState-of-the-art lighting and sound systems\nMultiple practice courts and training facilities\nPremium seating and VIP hospitality areas\nModern amenities and world-class infrastructure\n\nLocation Benefits: \n\nJust 2km from Dubai International Airport\nEasy access via Dubai Metro (GGICO Station on Red Line)\nFree shuttle bus service during the championship\nAdjacent to Irish Village entertainment complex\nMultiple restaurants and dining options nearby\n\nCompetition Setup: \n\nRing A and Ring B — Dual-ring setup for simultaneous bouts\nProfessional broadcasting infrastructure\nInternational-standard boxing facilities\nClimate-controlled indoor environment\n\nGetting There\nBy Metro: Take Dubai Metro Red Line to GGICO Station (1.0 km / 12-minute walk to venue). Free shuttle bus service operates between metro station and venue during the championship. \nBy Taxi/Uber: Request drop-off at “Dubai Tennis Stadium” or “Irish Village\, Garhoud.” Most drivers recognize the location due to the annual Dubai Tennis Championships. \nBy Car: Free parking available on-site. Address: 31a Street\, Garhoud (near junction with Casablanca Street). \nWalking: If staying near Dubai International Airport\, the venue is approximately 20 minutes on foot\, though taxi is recommended due to Dubai’s climate. \nTicketing Information\nAvailable Tickets: \n\nOpening Ceremony passes\nDaily competition admission\nFinals day tickets (December 13)\nIBA.Pro 13 fight night seats (December 12)\nMulti-day packages\n\nPricing: Ticket categories range from affordable general admission to premium seating options. Early booking recommended for finals and special events. \nWhere to Buy: Official tickets available through IBA Boxing official website and authorized vendors. \nDaily Competition Schedule\nMorning Sessions: Preliminary rounds across multiple weight divisions\nAfternoon Sessions: Continued preliminary bouts in both Ring A and Ring B\nEvening Sessions: Featured matchups and advancing rounds \nCompetition builds intensity throughout the tournament\, with quarter-finals and semi-finals leading to the championship finals on December 13. \nWhat to Expect\nCompetition Format: Fast-paced action with multiple bouts happening throughout the day. The dual-ring setup (Ring A and Ring B) ensures continuous entertainment with minimal downtime between fights. \nFight Quality: Elite-level technical boxing showcasing speed\, power\, strategy\, and defensive mastery. Expect spectacular knockouts\, tactical battles\, and emotional victories as athletes compete for national pride and life-changing prize money. \nAtmosphere: Electric energy with passionate fans supporting their national teams. The stadium transforms into a global boxing epicenter where cultures unite through shared love of the sport. \nProduction Value: World-class event production with professional broadcasting\, expert commentary\, instant replays\, and comprehensive coverage ensuring every moment is captured. \nHistorical Significance\nThe IBA Men’s World Boxing Championships boasts a 75+ year legacy of nurturing boxing’s greatest talents. Past champions have gone on to Olympic glory\, professional success\, and legendary careers. This 23rd edition marks a watershed moment\, elevating amateur boxing to unprecedented heights with record prize money and spectacular production values. \nIBA’s “Golden Era”: This championship represents the continuation of IBA’s vision\, first outlined in Istanbul 2025\, committing to: \n\nExpanded financial support for athletes\nInvestment from grassroots to professional levels\nProtection of boxers’ rights and welfare\nCreating opportunities for life-changing success\nEnsuring the sport remains a force for unity\n\nPresident Kremlev’s Vision\nIBA President Umar Kremlev stated: “This World Championships is not just about records and prize money—it is about giving every boxer\, every coach and every National Federation the respect and reward they deserve. Dubai will become the capital of boxing this December\, where athletes from every corner of the globe will compete on equal terms\, under their own flags\, and with a chance to change their lives.” \nCultural Connection\nThe championship’s alignment with UAE National Day (December 2) adds profound cultural significance. The opening ceremony honored the Emirates’ unity\, progress\, and global vision\, while the Festival of Boxing demonstrates Dubai’s commitment to becoming a world-leading sporting destination. \nMuhammad Ali’s Legacy: Rasheda Ali’s presence and tribute to her father Muhammad Ali connected the championship to boxing’s greatest legacy\, emphasizing courage\, respect\, and giving athletes fair chances—values embodied by this historic event. \nBeyond the Ring\nEntertainment District: The Irish Village adjacent to the stadium offers restaurants\, pubs\, and entertainment options\, creating a festival atmosphere beyond the boxing action. \nFree Viewing: Courts 1\, 2\, and 3 offer free general admission\, allowing visitors to experience world-class boxing without purchasing tickets—perfect for families and casual fans. \nDining Options: Multiple on-site restaurants and food vendors ensure convenient meal options throughout the day. \nChampionship Impact\nThis event represents more than sport—it’s Dubai’s statement as a global sporting capital and IBA’s commitment to boxing’s future. The unprecedented prize pool demonstrates that amateur boxing can reward athletes at professional levels while maintaining the sport’s integrity and Olympic spirit. \nLife-Changing Opportunities: For many athletes\, $150\,000 (half of the $300\,000 winner’s prize) represents years of training expenses\, family support\, and career advancement—making this championship genuinely transformational. \nInsider Tips\n🥊 Arrive Early: Popular sessions fill quickly\, especially finals\n🥊 Stay Hydrated: Bring water bottles (allowed in venue)\n🥊 Check Schedule: Bouts run continuously; plan which weight divisions interest you most\n🥊 Explore Free Areas: Courts 1-3 offer complimentary viewing\n🥊 Visit Irish Village: Perfect for meals and entertainment between sessions\n🥊 Follow Online: Can’t attend? Watch free on IBA YouTube channel\n🥊 Multi-Day Experience: Consider attending multiple days to see different weight classes \nJoin the Festival\nThe 2025 IBA Men’s World Boxing Championships transcends traditional sporting events. It’s a cultural celebration\, entertainment spectacular\, and historic sporting milestone rolled into one unforgettable festival. Whether you’re a die-hard boxing fan\, casual sports enthusiast\, or simply seeking world-class entertainment\, this championship delivers an experience that will echo through the ages. \n\nDubai becomes the capital of boxing this December. Don’t miss the richest\, most spectacular amateur boxing championship in history—where the world’s best boxers compete for glory\, honor\, and life-changing rewards. \nFor tickets\, schedules\, and live streaming: Visit IBA.sport or follow @IBA_Boxing on social media for real-time updates\, results\, and highlights. \nView Things to do in Dubai for more info
URL:https://uncoverdubai.com/event/iba-world-boxing-championships-2025/
LOCATION:Dubai Duty Free Tennis Stadium\, 31a Street\, Garhoud\,\, Dubai\, United Arab Emirates\, United Arab Emirates
CATEGORIES:Entertainment,Sports
ATTACH;FMTTYPE=image/jpeg:https://uncoverdubai.com/wp-content/uploads/2025/12/IBA-Dubai-boxing.jpeg
END:VEVENT
BEGIN:VEVENT
DTSTART;VALUE=DATE:20251129
DTEND;VALUE=DATE:20251201
DTSTAMP:20260423T162554
CREATED:20251121T021711Z
LAST-MODIFIED:20251121T021711Z
UID:12370-1764374400-1764547199@uncoverdubai.com
SUMMARY:Emirates Dubai 7s 2025: Where Sport Meets Festival Energy
DESCRIPTION:Get ready for one of Dubai’s most anticipated sporting spectacles — the Emirates Dubai 7s 2025\, taking place from November 29 to 30\, 2025 at The Sevens Stadium. Now in its 55th year\, this world-class rugby sevens tournament brings together top international men’s and women’s teams\, live music\, food festivals\, and a carnival-like atmosphere that perfectly captures Dubai’s dynamic spirit. \nMore than just rugby\, the Dubai 7s has evolved into a three-day celebration of sport\, music\, and community. Visitors can enjoy competitive rugby\, netball\, cricket\, and fitness challenges — all alongside DJ sets\, live bands\, family fun zones\, and gourmet street food. Whether you’re a die-hard sports fan or simply love outdoor festivals\, the energy at The Sevens is unmatched. \nThis year’s event will also feature Sunset Music Sessions\, celebrity appearances\, and new experiences for families and fitness enthusiasts. With thousands of spectators flying in from across the globe\, it’s one of the best weekends in Dubai’s winter season — offering excitement both on and off the field. \nTravel Tips for Visitors\n\n\nVenue: The Sevens Stadium\, 30 minutes from Downtown Dubai — free shuttle buses are available. \n\n\nWhat to bring: Sunscreen\, comfortable clothing\, and a festive spirit. \n\n\nBonus tip: Stay late for the evening concerts and post-match entertainment under the desert sky. \n\n\nThe Emirates Dubai 7s 2025 blends world-class sport\, music\, and lifestyle — making it a must-attend event on Dubai’s November calendar. \nHow to UNCOVER and Explore Dubai like a local: Insider Guide
URL:https://uncoverdubai.com/event/emirates-dubai-7s-2025-where-sport-meets-festival-energy/
LOCATION:The Sevens Stadium\, Al Ain Road - E66\, Dubai\, United Arab Emirates
CATEGORIES:Entertainment,Sports
ATTACH;FMTTYPE=image/jpeg:https://uncoverdubai.com/wp-content/uploads/2025/11/dubai-rugby-cricket-scaled.jpeg
END:VEVENT
BEGIN:VEVENT
DTSTART;VALUE=DATE:20250908
DTEND;VALUE=DATE:20250929
DTSTAMP:20260423T162554
CREATED:20250912T041150Z
LAST-MODIFIED:20250912T041150Z
UID:12238-1757289600-1759103999@uncoverdubai.com
SUMMARY:Asia Cup 2025 in Dubai: Schedule\, Matches & Tickets
DESCRIPTION:Dubai is set to host the Asia Cup 2025\, one of cricket’s most anticipated tournaments. From September 9–28\, 2025\, top Asian nations will battle it out in high-intensity T20 matches at the Dubai International Cricket Stadium and other UAE venues. \nEvent Details\n\n\nDates: 9–28 September 2025 \n\n\nVenue: Dubai International Cricket Stadium\, Dubai Sports City \n\n\nHighlights: India vs Pakistan clash (September 14\, 2025 in Dubai) \n\n\nTickets: Available via Platinumlist.net and Asian Cricket Council (asiancricket.org) \n\n\nContact: Stadium hotline: +971-4-4251111 \n\n\nWhy Attend\nExperience electrifying cricket moments in Dubai\, enjoy fan zones\, and soak up the atmosphere of one of the biggest sports tournaments in Asia. \nBook your Asia Cup 2025 tickets early to secure the best seats! \n\n\n10 September (Wednesday)\n\n\n\n18:00 \n\n\nIndia v United Arab Emirates \n\n\n\n\n\n\n\n\n\n12 September (Friday)\n\n\n\n18:00 \n\n\nPakistan v Oman \n\n\n\n\n\n\n\n\n\n14 September (Sunday)\n\n\n\n18:00 \n\n\nIndia v Pakistan \n\n\n\n\n\n\n\n\n\n15 September (Monday)\n\n\n\n18:00 \n\n\nSri Lanka v Hong Kong \n\n\n\n\n\n\n\n\n\n17 September (Wednesday)\n\n\n\n18:00 \n\n\nPakistan v United Arab Emirates \n\n\n\n\n\n\n\n\n\n20 September (Saturday)\n\n\n\n18:00 \n\n\nB1 v B2 \n\n\n\n\n\n\n\n\n\n21 September (Sunday)\n\n\n\n18:00 \n\n\nA1 v A2 \n\n\n\n\n\n\n\n\n\n24 September (Wednesday)\n\n\n\n18:00 \n\n\nA1 v B2 \n\n\n\n\n\n\n\n\n\n25 September (Thursday)\n\n\n\n18:00 \n\n\nA2 v B2 \n\n\n\n\n\n\n\n\n\n26 September (Friday)\n\n\n\n18:00 \n\n\nA1 v B1 \n\n\n\n\n\n\n\n\n\n28 September (Sunday)\n\n\n\n18:00 \n\n\nFinal
URL:https://uncoverdubai.com/event/asia-cup-2025-in-dubai-schedule-matches-tickets/
LOCATION:Dubai International Cricket Stadium\, Dubai Sports City\, Prime Business Centre - Sheikh Mohammed Bin Zayed Rd - Jumeirah Village - Dubai Sports City\, Dubai\, United Arab Emirates
CATEGORIES:Entertainment,Sports
ATTACH;FMTTYPE=image/avif:https://uncoverdubai.com/wp-content/uploads/2025/09/gulfnews_2025-08.avif
END:VEVENT
BEGIN:VEVENT
DTSTART;VALUE=DATE:20250405
DTEND;VALUE=DATE:20250406
DTSTAMP:20260423T162554
CREATED:20250319T170453Z
LAST-MODIFIED:20250319T170908Z
UID:11934-1743811200-1743897599@uncoverdubai.com
SUMMARY:Dubai World Cup
DESCRIPTION:The Dubai World Cup is one of the world’s most prestigious horse races\, held annually at Meydan Racecourse in Dubai\, United Arab Emirates. It is known for its high stakes\, attracting top horses\, jockeys\, and trainers from around the globe. \nKey Details About the Dubai World Cup\n\nInauguration: 1996\nRacecourse: Meydan Racecourse\nRace Distance: 2\,000 meters (about 10 furlongs)\nSurface: Dirt\nPurse: $12 million (one of the richest horse races in the world)\nDate: Usually held in late March\nPart of: Dubai World Cup Night\, featuring multiple high-stakes races\n\nNotable Winners\nSome legendary horses have won the Dubai World Cup\, including: \n\nCigar (1996) – The first-ever winner\nDubai Millennium (2000) – Owned by Sheikh Mohammed bin Rashid Al Maktoum\nArrogate (2017) – One of the most dominant performances in history\n\nThe 2025 Dubai World Cup is set to take place on Saturday\, April 5\, 2025.
URL:https://uncoverdubai.com/event/dubai-world-cup/
LOCATION:Meydan Racecourse\, Al Meydan Rd - Nad Al Sheba - Nad Al Sheba 1\, Dubai\, United Arab Emirates
CATEGORIES:Sports
ATTACH;FMTTYPE=image/jpeg:https://uncoverdubai.com/wp-content/uploads/2025/03/dubai-world-cup-horse-racing-scaled.jpeg
END:VEVENT
END:VCALENDAR